BEGIN:VCALENDAR
VERSION:2.0
PRODID:DPCALENDAR
CALSCALE:GREGORIAN
BEGIN:VTIMEZONE
TZID:Europe/Vienna
BEGIN:STANDARD
DTSTART:20251026T010000
TZOFFSETFROM:+0200
TZOFFSETTO:+0100
TZNAME:CET
END:STANDARD
BEGIN:STANDARD
DTSTART:20261025T010000
TZOFFSETFROM:+0200
TZOFFSETTO:+0100
TZNAME:CET
END:STANDARD
BEGIN:DAYLIGHT
DTSTART:20260329T010000
TZOFFSETFROM:+0100
TZOFFSETTO:+0200
TZNAME:CEST
END:DAYLIGHT
END:VTIMEZONE
X-WR-TIMEZONE:Europe/Vienna
BEGIN:VEVENT
DTSTART;TZID=Europe/Vienna:20190801T190000
DTEND;TZID=Europe/Vienna:20190801T190000
UID:41A317A0-A90D-4613-821E-5E9045D1594D
SUMMARY:Start Herbstanmeldung (F2 und höher)
CREATED:20190803T201915Z
DTSTAMP:20190803T201915Z
URL:https://su-neusiedl.at/termine/anmeldestart-2
DESCRIPTION:Die Anmeldung zu Vereinskursen (Level F2 und höher sowie Kleinkinder) für das Schuljahr 2019/20 startet am Donnerstag, den 1. August, um 19:00 ausschließlich online über das Buchungsformular auf dieser Website. Anfänger 1 & 2 sowie F1 (Pinguine) starten ab Do, den 12. September, um 17:00. Kurstermine ergänzen wir laufend, sobald Termine feststehen.\N\Nzu unseren Kurse\N\NInfos zur Kursanmeldung\N
X-ALT-DESC;FMTTYPE=text/html:<p>Die Anmeldung zu Vereinskursen (<strong>Level F2 und höher sowie Kleinkinder</strong>) für das Schuljahr 2019/20 startet am <strong>Donnerstag, den 1. August, um 19:00 </strong>ausschließlich online über das Buchungsformular auf dieser Website<strong>. Anfänger 1 &amp; 2 sowie F1 (Pinguine)</strong> <strong>starten ab Do, den 12. September, um 17:00</strong>. Kurstermine ergänzen wir laufend, sobald Termine feststehen.</p><p><a href="index.php?Itemid=123">zu unseren Kurse</a></p><p><a href="index.php?option=com_content&amp;view=article&amp;id=213&amp;catid=9">Infos zur Kursanmeldung</a></p>
LAST-MODIFIED:20190804T082100Z
SEQUENCE:43305
X-ACCESS:1
X-HITS:86
X-COLOR:194194
X-IMAGE-FULL:https://su-neusiedl.at/content/images/News-alt/Artikel-default.png
X-SHOW-END-TIME:0
END:VEVENT
BEGIN:VEVENT
DTSTART;TZID=Europe/Vienna:20190912T170000
DTEND;TZID=Europe/Vienna:20190912T170000
UID:575C821E-EC38-418F-A51D-689374315C43
SUMMARY:Start Herbstanmeldung (A1, A2, F1)
CREATED:20190803T201915Z
DTSTAMP:20190803T201915Z
URL:https://su-neusiedl.at/termine/anmeldestart
DESCRIPTION:Die Anmeldung zu Vereinskursen für das Schuljahr 2019/20 (Anfänger 1 & 2 sowie F1 (Pinguine)) starten ab Do, den 12. September, um 17:00. Kurstermine ergänzen wir laufend, sobald Termine feststehen.\N\Nzu unseren Kurse\N\NInfos zur Kursanmeldung\N
X-ALT-DESC;FMTTYPE=text/html:<p>Die Anmeldung zu Vereinskursen für das Schuljahr 2019/20 <strong>(Anfänger 1 &amp; 2 sowie F1 (Pinguine))</strong> <strong>starten ab Do, den 12. September, um 17:00</strong>. Kurstermine ergänzen wir laufend, sobald Termine feststehen.</p><p><a href="index.php?Itemid=123">zu unseren Kurse</a></p><p><a href="index.php?option=com_content&amp;view=article&amp;id=213&amp;catid=9">Infos zur Kursanmeldung</a></p>
LAST-MODIFIED:20190804T082117Z
SEQUENCE:43322
X-ACCESS:1
X-HITS:475
X-COLOR:194194
X-IMAGE-FULL:https://su-neusiedl.at/content/images/News-alt/Artikel-default.png
X-SHOW-END-TIME:0
END:VEVENT
BEGIN:VEVENT
DTSTART;TZID=Europe/Vienna:20220509T170000
DTEND;TZID=Europe/Vienna:20220509T170000
UID:6B08F281-0485-47C8-91C8-821AD12AAC58
SUMMARY:Anmeldestart Sommerschwimmkurse
CREATED:20210501T074642Z
DTSTAMP:20210501T074642Z
URL:https://su-neusiedl.at/kurse/infos-zur-kursanmeldung
DESCRIPTION:Anmeldestart für unser Sommerangebot im Brucker Parkbad.\N
X-ALT-DESC;FMTTYPE=text/html:<p>Anmeldestart für unser Sommerangebot im Brucker Parkbad.</p>
LAST-MODIFIED:20220411T170109Z
SEQUENCE:29841267
X-ACCESS:1
X-HITS:190
X-COLOR:194194
X-SHOW-END-TIME:0
END:VEVENT
BEGIN:VEVENT
DTSTART;TZID=Europe/Vienna:20230508T170000
DTEND;TZID=Europe/Vienna:20230508T170000
UID:2C2E8B66-99C9-43DD-BEE4-0A6358688E5B
SUMMARY:Anmeldestart Sommerschwimmkurse
CREATED:20210501T074642Z
DTSTAMP:20210501T074642Z
URL:https://su-neusiedl.at/kurse/sonderkursprogramm
DESCRIPTION:Anmeldestart für unser Sommerangebot im Brucker Parkbad.
X-ALT-DESC;FMTTYPE=text/html:<p>Anmeldestart für unser Sommerangebot im Brucker Parkbad.</p>
LAST-MODIFIED:20220411T170109Z
SEQUENCE:29841267
X-ACCESS:1
X-HITS:65
X-COLOR:194194
X-SHOW-END-TIME:0
END:VEVENT
END:VCALENDAR