BEGIN:VCALENDAR
VERSION:2.0
PRODID:DPCALENDAR
CALSCALE:GREGORIAN
BEGIN:VTIMEZONE
TZID:Europe/Vienna
BEGIN:STANDARD
DTSTART:20251026T010000
TZOFFSETFROM:+0200
TZOFFSETTO:+0100
TZNAME:CET
END:STANDARD
BEGIN:STANDARD
DTSTART:20261025T010000
TZOFFSETFROM:+0200
TZOFFSETTO:+0100
TZNAME:CET
END:STANDARD
BEGIN:DAYLIGHT
DTSTART:20260329T010000
TZOFFSETFROM:+0100
TZOFFSETTO:+0200
TZNAME:CEST
END:DAYLIGHT
END:VTIMEZONE
X-WR-TIMEZONE:Europe/Vienna
BEGIN:VEVENT
DTSTART;TZID=Europe/Vienna:20190901T100000
DTEND;TZID=Europe/Vienna:20190901T160000
UID:BAD43AC9-A0E7-439D-AFFA-9B32AA46C1E2
SUMMARY:Spiel- & Sportfest 2019
CREATED:20190806T130427Z
DTSTAMP:20190806T130427Z
URL:https://www.facebook.com/events/334074010617510/
DESCRIPTION:Rein in die Badehose und rauf auf die Rutsche! Wasserspaß gibt es auch heuer wieder bei unserer Station beim diesjährigen Spiel- & Sportfest 2019 für Groß und Klein. Wir freuen und auf euren Besuch!?? #suns #sportunion #wirbewegenMenschen\N
X-ALT-DESC;FMTTYPE=text/html:<p>Rein in die Badehose und rauf auf die Rutsche! Wasserspaß gibt es auch heuer wieder bei unserer Station beim diesjährigen Spiel- &amp; Sportfest 2019 für Groß und Klein. Wir freuen und auf euren Besuch!??&nbsp;#suns #sportunion #wirbewegenMenschen</p>
LAST-MODIFIED:20190806T143911Z
SEQUENCE:5684
LOCATION:Seegelände\, 7100 Neusiedl / See\, Burgenland
GEO:47.92830920;16.83444770
X-LOCATION-DISPLAYNAME:Seebad Neusiedl am See
X-ACCESS:1
X-HITS:558
X-COLOR:1e8a84
X-SHOW-END-TIME:1
END:VEVENT
BEGIN:VEVENT
DTSTART;TZID=Europe/Vienna:20210712T080000
DTEND;TZID=Europe/Vienna:20210716T170000
UID:102C717A-6E8F-4868-BB95-8D526CC3C3E6
SUMMARY:Schwimmcamp 2021
CREATED:20210501T081410Z
DTSTAMP:20210501T081410Z
URL:https://su-neusiedl.at/termine/schwimmcamp-2021
DESCRIPTION:Auch heuer findet wieder unser Schwimmcamp statt!\N(nur für fortgeschrittene Schwimmerinnen und Schwimmer)\N\NProgramm\N\N\N	2x täglich Schwimmtraining (je 2-3,5km)\N	Mo, Di & Do in Gols, Mittwoch im Seebad Neusiedl/See\N	Tretbootfahren\N	Akrobatik\N	Volleyball\N	Ausflug Familypark (Freitag)\N	und vieles mehr\N\N\NTermin\N\N\N	täglich von 8:00 - 17:00\N\N\NZielgruppe\N\N\N	ab 8 Jahren\N	2 Trainings pro Tag á 2-3,5km sollten absolviert werden können\N\N\NKosten\N\N\N	180€ für die ganze Woche\N\N\NWir freuen uns, wenn ihr wieder dabei seid!\N\NLeitung: Lena Sebauer\N\Nzum Bericht aus dem Vorjahr\N\N \N\NInfos & Anmeldung\N\Nzur Anmeldung und bei Fragen wende dich an:\N\Ninfo@su-neusiedl.at\N\N \N
X-ALT-DESC;FMTTYPE=text/html:<p>Auch heuer findet wieder unser Schwimmcamp statt!<br />(nur für fortgeschrittene Schwimmerinnen und Schwimmer)</p><h4>Programm</h4><ul>	<li>2x täglich Schwimmtraining (je 2-3,5km)<br />	Mo, Di &amp; Do in Gols, Mittwoch im Seebad Neusiedl/See</li>	<li>Tretbootfahren</li>	<li>Akrobatik</li>	<li>Volleyball</li>	<li>Ausflug Familypark (Freitag)</li>	<li>und vieles mehr</li></ul><h4>Termin</h4><ul>	<li>täglich von 8:00 - 17:00</li></ul><h4>Zielgruppe</h4><ul>	<li>ab 8 Jahren</li>	<li>2 Trainings pro Tag á 2-3,5km sollten absolviert werden können</li></ul><h4>Kosten</h4><ul>	<li>180€ für die ganze Woche</li></ul><p>Wir freuen uns, wenn ihr wieder dabei seid!</p><p>Leitung: Lena Sebauer</p><p><a href="index.php?option=com_content&amp;view=article&amp;id=245&amp;catid=8">zum Bericht aus dem Vorjahr</a></p><h4>&nbsp;</h4><h4>Infos &amp; Anmeldung</h4><p>zur Anmeldung und bei Fragen wende dich an:</p><p><a href="mailto:info@su-neusiedl.at" rel="noopener noreferrer" target="_blank" title="Mail an die Schwimmunion Neusiedl senden">info@su-neusiedl.at</a></p><p>&nbsp;</p>
LAST-MODIFIED:20210503T084651Z
SEQUENCE:174761
X-ACCESS:1
X-HITS:1004
X-COLOR:1e8a84
X-IMAGE-FULL:https://su-neusiedl.at/content/images/News/202007_SUNS_Camp1.jpg
X-IMAGE-FULL-ALT:Schwimmcamp 2021
X-IMAGE-INTRO:https://su-neusiedl.at/content/images/News/202007_SUNS_Camp1.jpg
X-IMAGE-INTRO-ALT:Schwimmcamp 2021
X-IMAGE-INTRO-CAPTION:Unser Schwimmcamp findet heuer von 12.-16. Juli statt.
X-SHOW-END-TIME:1
END:VEVENT
END:VCALENDAR