BEGIN:VCALENDAR
VERSION:2.0
PRODID:DPCALENDAR
CALSCALE:GREGORIAN
BEGIN:VTIMEZONE
TZID:Europe/Vienna
BEGIN:STANDARD
DTSTART:20251026T010000
TZOFFSETFROM:+0200
TZOFFSETTO:+0100
TZNAME:CET
END:STANDARD
BEGIN:STANDARD
DTSTART:20261025T010000
TZOFFSETFROM:+0200
TZOFFSETTO:+0100
TZNAME:CET
END:STANDARD
BEGIN:DAYLIGHT
DTSTART:20260329T010000
TZOFFSETFROM:+0100
TZOFFSETTO:+0200
TZNAME:CEST
END:DAYLIGHT
END:VTIMEZONE
X-WR-TIMEZONE:Europe/Vienna
BEGIN:VEVENT
DTSTART;VALUE=DATE:20190629
DTEND;VALUE=DATE:20190701
UID:A06D8CDA-025D-462B-835E-143E8E8E5394
SUMMARY:Bgld. Landesmeisterschaften
CREATED:20190803T211018Z
DTSTAMP:20190803T211018Z
URL:https://su-neusiedl.at/termine/bgld-landesmeisterschaften
DESCRIPTION:zur Veranstaltung auf MSECM\N
X-ALT-DESC;FMTTYPE=text/html:<p><a href="http://www.msecm.at/de/veranstaltung-details?eventid=1549">zur Veranstaltung auf MSECM</a></p>
LOCATION:Liese Prokop-Platz 1\, 2344 Maria Enzersdorf
GEO:48.09955800;16.31080300
X-LOCATION-DISPLAYNAME:BSFZ Südstadt
X-ACCESS:1
X-HITS:368
X-COLOR:f1982e
X-IMAGE-FULL:https://su-neusiedl.at/content/images/News-alt/Artikel-default.png
X-SHOW-END-TIME:1
END:VEVENT
BEGIN:VEVENT
DTSTART;VALUE=DATE:20190726
DTEND;VALUE=DATE:20190730
UID:7788C4CA-EF47-42FE-AE98-3777152BB94E
SUMMARY:Junioren-Staatsmeisterschaften 2019
CREATED:20190803T210633Z
DTSTAMP:20190803T210633Z
URL:https://su-neusiedl.at/termine/junioren-staatsmeisterschaften-2019
DESCRIPTION:Veranstaltung auf MSECM\N
X-ALT-DESC;FMTTYPE=text/html:<p><a href="http://www.msecm.at/de/veranstaltung-details?eventid=1410">Veranstaltung auf MSECM</a></p>
LOCATION:Johann-Brandl-Gasse 23\, 8605 Kapfenberg
GEO:47.44453300;15.29874900
X-LOCATION-DISPLAYNAME:Sportzentrum Kapfenberg
X-ACCESS:1
X-HITS:206
X-COLOR:f1982e
X-IMAGE-FULL:https://su-neusiedl.at/content/images/News-alt/Artikel-default.png
X-SHOW-END-TIME:1
END:VEVENT
BEGIN:VEVENT
DTSTART;VALUE=DATE:20190801
DTEND;VALUE=DATE:20190805
UID:D9B39B3B-C6C0-4885-8425-DFEC71A20FC6
SUMMARY:Österreichische Staatsmeisterschaften und ÖM der Juniorenklasse
CREATED:20190804T073307Z
DTSTAMP:20190804T073307Z
URL:https://su-neusiedl.at/termine/oesterreichische-staatsmeisterschaften-und-oem-der-juniorenklasse
DESCRIPTION:Veranstaltung auf MSECM\N
X-ALT-DESC;FMTTYPE=text/html:<p><a href="https://www.msecm.at/de/veranstaltung-details?eventid=1535">Veranstaltung auf MSECM</a></p>
LAST-MODIFIED:20190804T073715Z
SEQUENCE:248
LOCATION:Purtscheller Straße 1\, 6020 Innsbruck\, Tirol
GEO:47.26003000;11.40696000
X-LOCATION-DISPLAYNAME:Freibad Tivoli
X-ACCESS:1
X-HITS:234
X-COLOR:f1982e
X-IMAGE-FULL:https://su-neusiedl.at/content/images/News-alt/Artikel-default.png
X-SHOW-END-TIME:1
END:VEVENT
BEGIN:VEVENT
DTSTART;TZID=Europe/Vienna:20190811T080000
DTEND;TZID=Europe/Vienna:20190811T153000
UID:6102688E-33E5-486A-B1B8-707CB34A7310
SUMMARY:10. Internationale Österreichische Open Water Staats-, Junioren- und Mastersmeisterschaften
CREATED:20190806T132057Z
DTSTAMP:20190806T132057Z
URL:https://my7.raceresult.com/117193/
DESCRIPTION:Bewerbe (Wettkampfstrecken):\N\N2.5 km für die Mastersklassen\N\N 5 km für die Juniorenklassen und die Allgemeine Klasse\N\N 4 x 1,25 km Team Bewerb (Staffel) für die Allgemeine Klasse und Masters. \N
X-ALT-DESC;FMTTYPE=text/html:<p>Bewerbe (Wettkampfstrecken):</p><p>2.5 km für die Mastersklassen</p><p>&nbsp;5 km für die Juniorenklassen und die Allgemeine Klasse</p><p>&nbsp;4 x 1,25 km Team Bewerb (Staffel) für die Allgemeine Klasse und Masters.&nbsp;</p>
LAST-MODIFIED:20190806T151130Z
SEQUENCE:6633
LOCATION:Hechtsee 8a\, 6330 Kufstein
GEO:47.60884800;12.16882000
X-LOCATION-DISPLAYNAME:Seearena Hechtsee
X-ACCESS:1
X-HITS:272
X-COLOR:f1982e
X-SHOW-END-TIME:1
END:VEVENT
BEGIN:VEVENT
DTSTART;TZID=Europe/Vienna:20190928T080000
DTEND;TZID=Europe/Vienna:20190929T140000
UID:64B46180-062C-4667-87EF-93F80A511E9D
SUMMARY:31. Int. Österreichische Mastersmeisterschaften
CREATED:20190806T132307Z
DTSTAMP:20190806T132307Z
URL:http://www.msecm.at/de/veranstaltung-details?eventid=1537
LAST-MODIFIED:20190806T152152Z
SEQUENCE:7125
LOCATION:Schillerstraße 18\, 6850 Dornbirn
GEO:47.40965500;9.74490200
X-LOCATION-DISPLAYNAME:Stadtbad Dornbirn
X-ACCESS:1
X-HITS:1523
X-COLOR:f1982e
X-SHOW-END-TIME:1
END:VEVENT
BEGIN:VEVENT
DTSTART;TZID=Europe/Vienna:20191103T080000
DTEND;TZID=Europe/Vienna:20191103T170000
UID:04BC082A-A485-4F6D-8440-0BEB22FBB1B0
SUMMARY:SPORTUNION-Bundesmeisterschaften
CREATED:20190904T081152Z
DTSTAMP:20190904T081152Z
URL:https://su-neusiedl.at/termine/sportunion-bundesmeisterschaften
LAST-MODIFIED:20191018T072343Z
SEQUENCE:3798711
LOCATION:Liese Prokop-Platz 1\, 2344 Maria Enzersdorf
GEO:48.09955800;16.31080300
X-LOCATION-DISPLAYNAME:BSFZ Südstadt
X-ACCESS:1
X-HITS:1422
X-COLOR:f1982e
X-SHOW-END-TIME:1
END:VEVENT
BEGIN:VEVENT
DTSTART;VALUE=DATE:20191207
DTEND;VALUE=DATE:20191208
UID:8D4A4052-8B7B-411D-92B4-3702E3D2620E
SUMMARY:Nikolausschwimmen 2019
CREATED:20190803T151116Z
DTSTAMP:20190803T151116Z
URL:https://su-neusiedl.at/termine/nikolausschwimmen-2019
DESCRIPTION:Veranstaltung auf MSECEM\N\N \N
X-ALT-DESC;FMTTYPE=text/html:<p><a href="http://www.msecm.at/de/veranstaltung-details?eventid=1554">Veranstaltung auf MSECEM</a></p><p>&nbsp;</p>
LAST-MODIFIED:20190803T213319Z
SEQUENCE:22923
LOCATION:Haratzmüllerstraße 126\, 4400 Steyr
GEO:48.04709680;14.44252610
X-LOCATION-DISPLAYNAME:Stadtbad Steyr
X-ACCESS:1
X-HITS:1857
X-COLOR:f1982e
X-IMAGE-FULL:https://su-neusiedl.at/content/images/News-alt/Artikel-default.png
X-SHOW-END-TIME:1
X-PUBLISH-UP:2019-08-03 14:57:24
END:VEVENT
BEGIN:VEVENT
DTSTART;TZID=Europe/Vienna:20200201T070000
DTEND;TZID=Europe/Vienna:20200202T173000
UID:3039A24D-1D11-48B0-9559-1F65C1BCE590
SUMMARY:Bgld. Hallen-Landesmeisterschaften der Allgmeinen sowie Junioren-, Jugend- und Schülerklassen im Schwimmen
CREATED:20190806T131520Z
DTSTAMP:20190806T131520Z
URL:https://su-neusiedl.at/termine/bgld-hallen-landesmeisterschaft-und-bgld-hallen-meisterschaft-d-junioren-jugend-und-schuelerklassen-im-schwimmen-2020
DESCRIPTION:Am Sa, 1. und So, 2. Februar ist das Hallenbad Neusiedl am See Austragungsstätte der burgenländischen Schwimm-Landesmeisterschaften 2020. Athleten der Schwimmunion Neusiedl am See, des Usce Schwimmen Eisenstadt, der Waterbecks - Langstreckenschwimmverein sowie der Eisenstädter Schwimm-UNION / ESU zeigen ihr Können.\N\N \N\NVeranstaltung auf MSECM\N\N \N
X-ALT-DESC;FMTTYPE=text/html:<p>Am Sa, 1. und So, 2. Februar ist das <a href="https://www.facebook.com/Hallenbad-Neusiedl-am-See-1608867822661075/" target="_blank">Hallenbad Neusiedl am See</a> Austragungsstätte der burgenländischen Schwimm-Landesmeisterschaften 2020. Athleten der <a href="https://www.facebook.com/suneusiedl/" target="_blank">Schwimmunion Neusiedl am See</a>, des Usce Schwimmen Eisenstadt, der <a href="https://www.facebook.com/Waterbecks-Langstreckenschwimmverein-127529620661799/" target="_blank">Waterbecks - Langstreckenschwimmverein</a> sowie der <a href="https://www.facebook.com/schwimmeneisenstadt/" target="_blank">Eisenstädter Schwimm-UNION / ESU</a> zeigen ihr Können.</p><p>&nbsp;</p><p><a href="http://www.msecm.at/de/veranstaltung-details?eventid=1564">Veranstaltung auf MSECM</a></p><p>&nbsp;</p>
LAST-MODIFIED:20190806T152350Z
SEQUENCE:7710
LOCATION:Sportzentrum  4\, 7100 Neusiedl am See\, Burgenland
GEO:47.94210900;16.84173100
X-LOCATION-DISPLAYNAME:Hallenbad Neusiedl am See
X-ACCESS:1
X-HITS:1050
X-COLOR:f1982e
X-SHOW-END-TIME:1
END:VEVENT
END:VCALENDAR